View In:
ArcGIS JavaScript
ArcGIS Online Map Viewer
ArcGIS Earth
Service Description: HP_DevServices/SolarRisk
Name: HP_DevServices/SolarRisk
Description:
Single Fused Map Cache: false
Extent:
XMin: 600542.2103022073
YMin: 83558.26049690112
XMax: 2548862.210302207
YMax: 1356038.260496901
Spatial Reference: 2927
(2927)
LatestVCSWkid(0)
Initial Extent:
XMin: 600542.2103022073
YMin: 83558.26049690112
XMax: 2548862.210302207
YMax: 1356038.260496901
Spatial Reference: 2927
(2927)
LatestVCSWkid(0)
Full Extent:
XMin: 600542.2103022073
YMin: 83558.26049690112
XMax: 2548862.210302207
YMax: 1356038.260496901
Spatial Reference: 2927
(2927)
LatestVCSWkid(0)
Pixel Size X: 5280.0
Pixel Size Y: 5280.0
Band Count: 1
Pixel Type: F32
RasterFunction Infos: {"rasterFunctionInfos": [{
"name": "None",
"description": "",
"help": ""
}]}
Mensuration Capabilities: Basic
Has Histograms: true
Has Colormap: false
Has Multi Dimensions : false
Rendering Rule:
Min Scale: 0
Max Scale: 0
Copyright Text:
Service Data Type: esriImageServiceDataTypeGeneric
Min Values: 0
Max Values: 0.5358530879020691
Mean Values: 0.010804678888509625
Standard Deviation Values: 0.04151707538181991
Object ID Field:
Fields:
None
Default Mosaic Method: Center
Allowed Mosaic Methods:
SortField:
SortValue: null
Mosaic Operator: First
Default Compression Quality: 75
Default Resampling Method: Nearest
Max Record Count: null
Max Image Height: 4100
Max Image Width: 15000
Max Download Image Count: null
Max Mosaic Image Count: null
Allow Raster Function: true
Allow Copy: false
Allow Analysis: true
Allow Compute TiePoints: false
Supports Statistics: false
Supports Advanced Queries: false
Use StandardizedQueries: true
Raster Type Infos:
Name: Raster Dataset
Description: Supports all ArcGIS Raster Datasets
Help:
Has Raster Attribute Table: false
Edit Fields Info: null
Ownership Based AccessControl For Rasters: null
Child Resources:
Info
Histograms
Statistics
Key Properties
Legend
Raster Function Infos
Supported Operations:
Export Image
Identify
Measure
Compute Histograms
Compute Statistics Histograms
Get Samples
Compute Class Statistics
Query Boundary
Compute Pixel Location
Compute Angles
Validate
Project