{
 "currentVersion": 11.1,
 "serviceDescription": "HP_DevServices/SolarRisk",
 "name": "HP_DevServices/SolarRisk",
 "description": "",
 "extent": {
  "xmin": 600542.2103022073,
  "ymin": 83558.26049690112,
  "xmax": 2548862.210302207,
  "ymax": 1356038.260496901,
  "spatialReference": {
   "wkid": 2927,
   "latestWkid": 2927
  }
 },
 "initialExtent": {
  "xmin": 600542.2103022073,
  "ymin": 83558.26049690112,
  "xmax": 2548862.210302207,
  "ymax": 1356038.260496901,
  "spatialReference": {
   "wkid": 2927,
   "latestWkid": 2927
  }
 },
 "fullExtent": {
  "xmin": 600542.2103022073,
  "ymin": 83558.26049690112,
  "xmax": 2548862.210302207,
  "ymax": 1356038.260496901,
  "spatialReference": {
   "wkid": 2927,
   "latestWkid": 2927
  }
 },
 "sortableFields": "",
 "bandCount": 1,
 "pixelType": "F32",
 "minValues": [
  0
 ],
 "maxValues": [
  0.5358530879020691
 ],
 "meanValues": [
  0.010804678888509625
 ],
 "stdvValues": [
  0.04151707538181991
 ],
 "hasMultidimensions": false,
 "pixelSizeX": 5280,
 "pixelSizeY": 5280,
 "datasetFormat": "FGDBR",
 "uncompressedSize": 355716,
 "blockWidth": 128,
 "blockHeight": 128,
 "compressionType": "LZ77",
 "bandNames": [
  "Band_1"
 ],
 "allowCopy": false,
 "allowAnalysis": true,
 "itemAccess": false,
 "minPixelSize": 0,
 "maxPixelSize": 0,
 "copyrightText": "",
 "serviceDataType": "esriImageServiceDataTypeGeneric",
 "serviceSourceType": "esriImageServiceSourceTypeDataset",
 "objectIdField": "",
 "fields": [],
 "capabilities": "Image,Metadata,Mensuration",
 "defaultMosaicMethod": "Center",
 "allowedMosaicMethods": "",
 "sortField": "",
 "sortValue": null,
 "sortAscending": true,
 "mosaicOperator": "First",
 "defaultCompressionQuality": 75,
 "defaultResamplingMethod": "Nearest",
 "maxImageHeight": 4100,
 "maxImageWidth": 15000,
 "allowRasterFunction": true,
 "rasterFunctionInfos": [
  {
   "name": "None",
   "description": "",
   "help": ""
  }
 ],
 "rasterTypeInfos": [
  {
   "name": "Raster Dataset",
   "description": "Supports all ArcGIS Raster Datasets",
   "help": ""
  }
 ],
 "mensurationCapabilities": "Basic",
 "hasHistograms": true,
 "hasColormap": false,
 "hasRasterAttributeTable": false,
 "minScale": 0,
 "maxScale": 0,
 "exportTilesAllowed": false,
 "supportsStatistics": false,
 "supportsAdvancedQueries": false,
 "editFieldsInfo": null,
 "ownershipBasedAccessControlForRasters": null,
 "allowComputeTiePoints": false,
 "useStandardizedQueries": true,
 "advancedQueryCapabilities": {
  "useStandardizedQueries": true,
  "supportsStatistics": false,
  "supportsOrderBy": false,
  "supportsDistinct": false,
  "supportsPagination": false
 },
 "spatialReference": {
  "wkid": 2927,
  "latestWkid": 2927
 }
}
