View In:
ArcGIS JavaScript
ArcGIS Online Map Viewer
ArcGIS Earth
Service Description: HP_DevServices/Landscape_Connectivity
Name: HP_DevServices/Landscape_Connectivity
Description:
Single Fused Map Cache: false
Extent:
XMin: 600542.2106358111
YMin: 83558.26049664617
XMax: 2548862.210635811
YMax: 1356038.2604966462
Spatial Reference: 0
(0)
LatestVCSWkid(0)
Initial Extent:
XMin: 600542.2106358111
YMin: 83558.26049664617
XMax: 2548862.210635811
YMax: 1356038.2604966462
Spatial Reference: 0
(0)
LatestVCSWkid(0)
Full Extent:
XMin: 600542.2106358111
YMin: 83558.26049664617
XMax: 2548862.210635811
YMax: 1356038.2604966462
Spatial Reference: 0
(0)
LatestVCSWkid(0)
Pixel Size X: 5280.0
Pixel Size Y: 5280.0
Band Count: 1
Pixel Type: F32
RasterFunction Infos: {"rasterFunctionInfos": [{
"name": "None",
"description": "",
"help": ""
}]}
Mensuration Capabilities: Basic
Has Histograms: true
Has Colormap: false
Has Multi Dimensions : false
Rendering Rule:
Min Scale: 0
Max Scale: 0
Copyright Text:
Service Data Type: esriImageServiceDataTypeGeneric
Min Values: 0.004174706060439348
Max Values: 24.011842727661133
Mean Values: 11.661112924351032
Standard Deviation Values: 5.732357214478784
Object ID Field:
Fields:
None
Default Mosaic Method: Center
Allowed Mosaic Methods:
SortField:
SortValue: null
Mosaic Operator: First
Default Compression Quality: 75
Default Resampling Method: Nearest
Max Record Count: null
Max Image Height: 4100
Max Image Width: 15000
Max Download Image Count: null
Max Mosaic Image Count: null
Allow Raster Function: true
Allow Copy: false
Allow Analysis: true
Allow Compute TiePoints: false
Supports Statistics: false
Supports Advanced Queries: false
Use StandardizedQueries: true
Raster Type Infos:
Name: Raster Dataset
Description: Supports all ArcGIS Raster Datasets
Help:
Has Raster Attribute Table: false
Edit Fields Info: null
Ownership Based AccessControl For Rasters: null
Child Resources:
Info
Histograms
Statistics
Key Properties
Legend
Raster Function Infos
Supported Operations:
Export Image
Identify
Measure
Compute Histograms
Compute Statistics Histograms
Get Samples
Compute Class Statistics
Query Boundary
Compute Pixel Location
Compute Angles
Validate
Project