View In:
ArcGIS JavaScript
ArcGIS Online Map Viewer
ArcGIS Earth
Service Description: Focal Species Cores and Corridors 20 mile moving window for the Washington Habitat Connectivity Action Plan. This layer applied a 20 mile moving window filter on the raw Focal Species Cores and Corridors layer. For each 1-mile grid cell, this filter calculated a normalized score by dividing the cell's original score by the highest score found within its surrounding 20-mile neighborhood. This process highlights cells with high values relative to their immediate vicinity. Values where then rescaled between 0 and 1.
Name: HP_DevServices/FocalSpecies20MW
Description: Focal Species Cores and Corridors 20 mile moving window for the Washington Habitat Connectivity Action Plan. This layer applied a 20 mile moving window filter on the raw Focal Species Cores and Corridors layer. For each 1-mile grid cell, this filter calculated a normalized score by dividing the cell's original score by the highest score found within its surrounding 20-mile neighborhood. This process highlights cells with high values relative to their immediate vicinity. Values where then rescaled between 0 and 1.
Single Fused Map Cache: false
Extent:
XMin: 600542.2103022108
YMin: 78278.28616055124
XMax: 2554142.1255454835
YMax: 1356038.2604969135
Spatial Reference: 2927
(2927)
LatestVCSWkid(0)
Initial Extent:
XMin: 600542.2103022108
YMin: 78278.28616055124
XMax: 2554142.1255454835
YMax: 1356038.2604969135
Spatial Reference: 2927
(2927)
LatestVCSWkid(0)
Full Extent:
XMin: 600542.2103022108
YMin: 78278.28616055124
XMax: 2554142.1255454835
YMax: 1356038.2604969135
Spatial Reference: 2927
(2927)
LatestVCSWkid(0)
Pixel Size X: 5279.999770927764
Pixel Size Y: 5279.99989395191
Band Count: 1
Pixel Type: F32
RasterFunction Infos: {"rasterFunctionInfos": [{
"name": "None",
"description": "",
"help": ""
}]}
Mensuration Capabilities: Basic
Has Histograms: true
Has Colormap: false
Has Multi Dimensions : false
Rendering Rule:
Min Scale: 0
Max Scale: 0
Copyright Text: This layer was developed for the 2025 Washington Habitat Connectivity Action Plan by the Washington Department of Fish and Wildlife (WDFW).
Service Data Type: esriImageServiceDataTypeGeneric
Min Values: 0
Max Values: 3.071016788482666
Mean Values: 0.8895564142997208
Standard Deviation Values: 0.47797538022337105
Object ID Field:
Fields:
None
Default Mosaic Method: Center
Allowed Mosaic Methods:
SortField:
SortValue: null
Mosaic Operator: First
Default Compression Quality: 75
Default Resampling Method: Nearest
Max Record Count: null
Max Image Height: 4100
Max Image Width: 15000
Max Download Image Count: null
Max Mosaic Image Count: null
Allow Raster Function: true
Allow Copy: false
Allow Analysis: true
Allow Compute TiePoints: false
Supports Statistics: false
Supports Advanced Queries: false
Use StandardizedQueries: true
Raster Type Infos:
Name: Raster Dataset
Description: Supports all ArcGIS Raster Datasets
Help:
Has Raster Attribute Table: false
Edit Fields Info: null
Ownership Based AccessControl For Rasters: null
Child Resources:
Info
Histograms
Statistics
Key Properties
Legend
Raster Function Infos
Supported Operations:
Export Image
Identify
Measure
Compute Histograms
Compute Statistics Histograms
Get Samples
Compute Class Statistics
Query Boundary
Compute Pixel Location
Compute Angles
Validate
Project