{ "currentVersion": 11.1, "serviceDescription": "
Network Importance developed by TerrAdapt for the Washington Habitat Connectivity Action Plan. This model assessed the relative importance of areas to the overall connectivity network.<\/SPAN><\/P> One shortcoming of the core-corridor and permeability models is that they reveal the best routes through a landscape (between core areas, and locally to neighboring pixels, respectively), but they don\u2019t reflect the relative frequency at which those routes are likely to be used given the distribution of habitat and the quality of habitat across an ecosystem. Routes connecting two large core areas containing substantial high quality habitat are much more likely to be used by dispersing individuals compared to routes that connect smaller and/or lower quality cores. The relative density is a function of the density of the population interacting with the patterns of resistance on the landscape, and is a measure of centrality in the network of connected habitats (i.e., areas with the high dispersal densities are central within the population, connecting more of the population than less central areas). An understanding of relative dispersal density is valuable in that it enables prioritization of the most central parts of the network connecting the most high quality habitat.<\/SPAN><\/P> To address this gap, we calculated an index intended to reflect the relative dispersal density across the landscape for each ecosystem. The source of dispersal was the core areas and the dispersal density inside each core was the square root of the core area multiplied by the mean habitat quality of the core. Dispersal density decreased moving outwards from each core as a function of the square of cost distance, scaled from 1 to 0 as the cost distance from the core increased from 0 to the maximum cost distance of 100km. Summing these dispersal \u2018kernels\u2019 across all the cores yielded the final dispersal density. Areas with many large cores of high quality had very high dispersal density relative to areas with fewer, smaller cores of lower quality.\t<\/SPAN><\/P><\/DIV>",
"name": "HP_DevServices/NetworkImportance",
"description": " Network Importance developed by TerrAdapt for the Washington Habitat Connectivity Action Plan. This model assessed the relative importance of areas to the overall connectivity network.<\/SPAN><\/P> One shortcoming of the core-corridor and permeability models is that they reveal the best routes through a landscape (between core areas, and locally to neighboring pixels, respectively), but they don\u2019t reflect the relative frequency at which those routes are likely to be used given the distribution of habitat and the quality of habitat across an ecosystem. Routes connecting two large core areas containing substantial high quality habitat are much more likely to be used by dispersing individuals compared to routes that connect smaller and/or lower quality cores. The relative density is a function of the density of the population interacting with the patterns of resistance on the landscape, and is a measure of centrality in the network of connected habitats (i.e., areas with the high dispersal densities are central within the population, connecting more of the population than less central areas). An understanding of relative dispersal density is valuable in that it enables prioritization of the most central parts of the network connecting the most high quality habitat.<\/SPAN><\/P> To address this gap, we calculated an index intended to reflect the relative dispersal density across the landscape for each ecosystem. The source of dispersal was the core areas and the dispersal density inside each core was the square root of the core area multiplied by the mean habitat quality of the core. Dispersal density decreased moving outwards from each core as a function of the square of cost distance, scaled from 1 to 0 as the cost distance from the core increased from 0 to the maximum cost distance of 100km. Summing these dispersal \u2018kernels\u2019 across all the cores yielded the final dispersal density. Areas with many large cores of high quality had very high dispersal density relative to areas with fewer, smaller cores of lower quality.\t<\/SPAN><\/P><\/DIV>",
"extent": {
"xmin": 559053.9999995996,
"ymin": -84973.58333282918,
"xmax": 2982605.5833329326,
"ymax": 2686018.250000504,
"spatialReference": {
"wkid": 2927,
"latestWkid": 2927
}
},
"initialExtent": {
"xmin": 559053.9999995996,
"ymin": -84973.58333282918,
"xmax": 2982605.5833329326,
"ymax": 2686018.250000504,
"spatialReference": {
"wkid": 2927,
"latestWkid": 2927
}
},
"fullExtent": {
"xmin": 559053.9999995996,
"ymin": -84973.58333282918,
"xmax": 2982605.5833329326,
"ymax": 2686018.250000504,
"spatialReference": {
"wkid": 2927,
"latestWkid": 2927
}
},
"sortableFields": "",
"bandCount": 1,
"pixelType": "U8",
"minValues": [
0
],
"maxValues": [
100
],
"meanValues": [
55.50377895055412
],
"stdvValues": [
41.10908786121902
],
"hasMultidimensions": false,
"pixelSizeX": 328.0833333333333,
"pixelSizeY": 328.0833333333333,
"datasetFormat": "FGDBR",
"uncompressedSize": 62382156,
"blockWidth": 128,
"blockHeight": 128,
"compressionType": "LZ77",
"bandNames": [
"Band_1"
],
"allowCopy": false,
"allowAnalysis": true,
"itemAccess": false,
"minPixelSize": 0,
"maxPixelSize": 0,
"copyrightText": "This layer was developed for the 2025 Washington Habitat Connectivity Action Plan by TerrAdapt (https://terradapt.org/).",
"serviceDataType": "esriImageServiceDataTypeGeneric",
"serviceSourceType": "esriImageServiceSourceTypeDataset",
"objectIdField": "",
"fields": [],
"capabilities": "Image,Metadata,Mensuration",
"defaultMosaicMethod": "Center",
"allowedMosaicMethods": "",
"sortField": "",
"sortValue": null,
"sortAscending": true,
"mosaicOperator": "First",
"defaultCompressionQuality": 75,
"defaultResamplingMethod": "Nearest",
"maxImageHeight": 4100,
"maxImageWidth": 15000,
"allowRasterFunction": true,
"rasterFunctionInfos": [
{
"name": "None",
"description": "",
"help": ""
}
],
"rasterTypeInfos": [
{
"name": "Raster Dataset",
"description": "Supports all ArcGIS Raster Datasets",
"help": ""
}
],
"mensurationCapabilities": "Basic",
"hasHistograms": true,
"hasColormap": false,
"hasRasterAttributeTable": false,
"minScale": 0,
"maxScale": 0,
"exportTilesAllowed": false,
"supportsStatistics": false,
"supportsAdvancedQueries": false,
"editFieldsInfo": null,
"ownershipBasedAccessControlForRasters": null,
"allowComputeTiePoints": false,
"useStandardizedQueries": true,
"advancedQueryCapabilities": {
"useStandardizedQueries": true,
"supportsStatistics": false,
"supportsOrderBy": false,
"supportsDistinct": false,
"supportsPagination": false
},
"spatialReference": {
"wkid": 2927,
"latestWkid": 2927
}
}